BEGIN:VCALENDAR
VERSION:2.0
PRODID:-//Portsea Parish - ECPv5.0.3.1//NONSGML v1.0//EN
CALSCALE:GREGORIAN
METHOD:PUBLISH
X-WR-CALNAME:Portsea Parish
X-ORIGINAL-URL:https://www.portseaparish.co.uk
X-WR-CALDESC:Events for Portsea Parish
BEGIN:VTIMEZONE
TZID:Europe/London
BEGIN:DAYLIGHT
TZOFFSETFROM:+0000
TZOFFSETTO:+0100
TZNAME:BST
DTSTART:20250330T010000
END:DAYLIGHT
BEGIN:STANDARD
TZOFFSETFROM:+0100
TZOFFSETTO:+0000
TZNAME:GMT
DTSTART:20251026T010000
END:STANDARD
END:VTIMEZONE
BEGIN:VEVENT
DTSTART;TZID=Europe/London:20251211T193000
DTEND;TZID=Europe/London:20251212T220000
DTSTAMP:20260421T152232
CREATED:20251127T135004Z
LAST-MODIFIED:20251127T135004Z
UID:38367-1765481400-1765576800@www.portseaparish.co.uk
SUMMARY:The Royal Marines School of Music - The Christmas Concert
DESCRIPTION:Join The Royal Marines School of Music as they kick off Christmas with a stunning and spectacular evening of Christmas entertainment on the 11 or 12 December\, featuring carols\, choirs\, elves\, crackers\, terrible puns\, tinsel and gifts\, and of course\, the festive Corps of Drums. \nTo book tickets (£15 for adults\, £13 for concessions\, £1 for children)\, please go to The Royal Marines Band Service’s Eventbrite page. \n \n
URL:https://www.portseaparish.co.uk/event/the-royal-marines-school-of-music-the-christmas-concert/
LOCATION:St Mary’s Church\, Fratton Road\, Portsmouth\, PO1 5PA\, United Kingdom
END:VEVENT
END:VCALENDAR