BEGIN:VCALENDAR
VERSION:2.0
PRODID:-//Portsea Parish - ECPv5.0.3.1//NONSGML v1.0//EN
CALSCALE:GREGORIAN
METHOD:PUBLISH
X-WR-CALNAME:Portsea Parish
X-ORIGINAL-URL:https://www.portseaparish.co.uk
X-WR-CALDESC:Events for Portsea Parish
BEGIN:VTIMEZONE
TZID:Europe/London
BEGIN:DAYLIGHT
TZOFFSETFROM:+0000
TZOFFSETTO:+0100
TZNAME:BST
DTSTART:20250330T010000
END:DAYLIGHT
BEGIN:STANDARD
TZOFFSETFROM:+0100
TZOFFSETTO:+0000
TZNAME:GMT
DTSTART:20251026T010000
END:STANDARD
END:VTIMEZONE
BEGIN:VEVENT
DTSTART;TZID=Europe/London:20251219T120000
DTEND;TZID=Europe/London:20251219T130000
DTSTAMP:20260421T153139
CREATED:20251202T100950Z
LAST-MODIFIED:20251202T100950Z
UID:38388-1766145600-1766149200@www.portseaparish.co.uk
SUMMARY:Churches Homeless Action Carols
DESCRIPTION:Join us for a carol service which both reflects on the Christmas season and remembers those who will be in need this winter. As a chance for us to share our gifts with others\, we will be distributing the vouchers collected by local churches\, through the Comfort & Joy campaign\, to local agencies supporting vulnerable people this Christmas. \nIf you would like to contribute to the Comfort and Joy campaign\, then please make a donation of £5 or £10 gift cards and/or a Christmas card with a personal message (in an unsealed envelope) to St Mary’s Church\, Fratton Road\, PO1 5PA or The Deanery Office\, St Faith’s Church\, Crasswell Street\, PO1 1HT. \nWe hope that this combination of a gift card and a Christmas card gives people in the margins an opportunity to have their humanity recognised and to exercise the gift of choice in how they spend it. \n \n
URL:https://www.portseaparish.co.uk/event/churches-homeless-action-carols-5/
LOCATION:St Mary’s Church\, Fratton Road\, Portsmouth\, PO1 5PA\, United Kingdom
END:VEVENT
END:VCALENDAR