BEGIN:VCALENDAR
VERSION:2.0
PRODID:-//Portsea Parish - ECPv5.0.3.1//NONSGML v1.0//EN
CALSCALE:GREGORIAN
METHOD:PUBLISH
X-WR-CALNAME:Portsea Parish
X-ORIGINAL-URL:https://www.portseaparish.co.uk
X-WR-CALDESC:Events for Portsea Parish
BEGIN:VTIMEZONE
TZID:Europe/London
BEGIN:DAYLIGHT
TZOFFSETFROM:+0000
TZOFFSETTO:+0100
TZNAME:BST
DTSTART:20250330T010000
END:DAYLIGHT
BEGIN:STANDARD
TZOFFSETFROM:+0100
TZOFFSETTO:+0000
TZNAME:GMT
DTSTART:20251026T010000
END:STANDARD
END:VTIMEZONE
BEGIN:VEVENT
DTSTART;TZID=Europe/London:20251224T233000
DTEND;TZID=Europe/London:20251225T003000
DTSTAMP:20260421T152132
CREATED:20251216T133834Z
LAST-MODIFIED:20251224T195649Z
UID:38437-1766619000-1766622600@www.portseaparish.co.uk
SUMMARY:Midnight Mass at St Mary's
DESCRIPTION:Join us for a celebratory service as we greet the Christ child! Come and celebrate the beginning of Christmas with a traditional mass\, carols sung by the choir and congregation\, and a brass band \nThe service will be livestreamed on our Facebook page and our YouTube channel. You can find the order of service online here. \n \n
URL:https://www.portseaparish.co.uk/event/midnight-mass-at-st-marys-4/
LOCATION:St Mary’s Church\, Fratton Road\, Portsmouth\, PO1 5PA\, United Kingdom
END:VEVENT
BEGIN:VEVENT
DTSTART;TZID=Europe/London:20251225T090000
DTEND;TZID=Europe/London:20251225T110000
DTSTAMP:20260421T152132
CREATED:20251216T134737Z
LAST-MODIFIED:20251224T200434Z
UID:38440-1766653200-1766660400@www.portseaparish.co.uk
SUMMARY:Christmas Day at St Mary's
DESCRIPTION:Join us as we celebrate the birth of Christ! At 10am we will be holding a traditional morning service\, with carols\, to give thanks for the greatest gift that mankind has received. \nBefore that\, at 9am\, you can take part in a Book of Common Prayer service; a quieter form of worship to mark Christmas\, using the words that worshippers have said for over 500 years. \nOur 10am service will be livestreamed on our Facebook page and our YouTube channel. To follow along\, you can find the order of service here. \n \n
URL:https://www.portseaparish.co.uk/event/christmas-day-at-st-marys/
END:VEVENT
END:VCALENDAR