BEGIN:VCALENDAR
VERSION:2.0
PRODID:-//Portsea Parish - ECPv5.0.3.1//NONSGML v1.0//EN
CALSCALE:GREGORIAN
METHOD:PUBLISH
X-WR-CALNAME:Portsea Parish
X-ORIGINAL-URL:https://www.portseaparish.co.uk
X-WR-CALDESC:Events for Portsea Parish
BEGIN:VTIMEZONE
TZID:Europe/London
BEGIN:DAYLIGHT
TZOFFSETFROM:+0000
TZOFFSETTO:+0100
TZNAME:BST
DTSTART:20260329T010000
END:DAYLIGHT
BEGIN:STANDARD
TZOFFSETFROM:+0100
TZOFFSETTO:+0000
TZNAME:GMT
DTSTART:20261025T010000
END:STANDARD
END:VTIMEZONE
BEGIN:VEVENT
DTSTART;TZID=Europe/London:20260322T100000
DTEND;TZID=Europe/London:20260322T110000
DTSTAMP:20260424T020439
CREATED:20260320T112918Z
LAST-MODIFIED:20260321T182128Z
UID:38732-1774173600-1774177200@www.portseaparish.co.uk
SUMMARY:Celebrating Christ's Presence: 5th Sunday in Lent - 22 March 2026 - St Mary's Church\, Portsea
DESCRIPTION:Join us for our weekly Sunday Eucharist\, in the season of Lent. \nThis service will NOT be livestreamed due to issues with our broadband supplier. We apologise for any inconvenience caused. \nTo engage with the service\, you can find the order of service\, hymn sheet and this week’s notices on our AChurchNearYou page. \n \n
URL:https://www.portseaparish.co.uk/event/celebrating-christs-presence-5th-sunday-in-lent-22-march-2026-st-marys-church-portsea/
LOCATION:St Mary’s Church\, Fratton Road\, Portsmouth\, PO1 5PA\, United Kingdom
END:VEVENT
BEGIN:VEVENT
DTSTART;TZID=Europe/London:20260322T160000
DTEND;TZID=Europe/London:20260322T170000
DTSTAMP:20260424T020439
CREATED:20260311T145415Z
LAST-MODIFIED:20260311T145415Z
UID:38711-1774195200-1774198800@www.portseaparish.co.uk
SUMMARY:Passiontide Music & Readings
DESCRIPTION:A quiet\, reflective service to meditate on the Passion. Join us as we use music from John Stainer’s ‘The Crucifixion’ and reflective readings to remember Jesus’ final moments before his crucifixion. \n \n
URL:https://www.portseaparish.co.uk/event/passiontide-music-readings/
LOCATION:St Mary’s Church\, Fratton Road\, Portsmouth\, PO1 5PA\, United Kingdom
END:VEVENT
END:VCALENDAR