BEGIN:VCALENDAR
VERSION:2.0
PRODID:-//Portsea Parish - ECPv5.0.3.1//NONSGML v1.0//EN
CALSCALE:GREGORIAN
METHOD:PUBLISH
X-WR-CALNAME:Portsea Parish
X-ORIGINAL-URL:https://www.portseaparish.co.uk
X-WR-CALDESC:Events for Portsea Parish
BEGIN:VTIMEZONE
TZID:Europe/London
BEGIN:DAYLIGHT
TZOFFSETFROM:+0000
TZOFFSETTO:+0100
TZNAME:BST
DTSTART:20260329T010000
END:DAYLIGHT
BEGIN:STANDARD
TZOFFSETFROM:+0100
TZOFFSETTO:+0000
TZNAME:GMT
DTSTART:20261025T010000
END:STANDARD
END:VTIMEZONE
BEGIN:VEVENT
DTSTART;TZID=Europe/London:20260402T193000
DTEND;TZID=Europe/London:20260402T235900
DTSTAMP:20260422T060604
CREATED:20260326T095026Z
LAST-MODIFIED:20260402T100849Z
UID:38767-1775158200-1775174340@www.portseaparish.co.uk
SUMMARY:Celebrating Christ's Presence: Maundy Thursday
DESCRIPTION:On Maundy Thursday\, we remember the last supper Jesus shared with his friends. During the meal\, the Servant King washed his disciples’ feet. Afterwards\, he led them to the Garden of Gethsemane and asked them to “watch and pray”. \nJoin us for a Eucharist of the Last Supper. Afterwards\, you are invited to take part in a vigil of silent prayer\, lasting until midnight. We are still looking for more volunteers to help sustain this vigil; if you intend to attend\, please sign the list in church so that we can see which 15-minute slots still need filling. \nSt Faith’s will also be holding their Eucharist of the Last Supper at 6pm; this will similarly end with a vigil of prayer. \nSt Mary’s service will be livestreamed on our Facebook page and our YouTube channel. To engage with the service\, you can find the order of service on our AChurchNearYou page. \n \n
URL:https://www.portseaparish.co.uk/event/celebrating-christs-presence-maundy-thursday-2/
LOCATION:St Mary’s Church\, Fratton Road\, Portsmouth\, PO1 5PA\, United Kingdom
END:VEVENT
END:VCALENDAR