BEGIN:VCALENDAR
VERSION:2.0
PRODID:-//Portsea Parish - ECPv5.0.3.1//NONSGML v1.0//EN
CALSCALE:GREGORIAN
METHOD:PUBLISH
X-WR-CALNAME:Portsea Parish
X-ORIGINAL-URL:https://www.portseaparish.co.uk
X-WR-CALDESC:Events for Portsea Parish
BEGIN:VTIMEZONE
TZID:Europe/London
BEGIN:DAYLIGHT
TZOFFSETFROM:+0000
TZOFFSETTO:+0100
TZNAME:BST
DTSTART:20260329T010000
END:DAYLIGHT
BEGIN:STANDARD
TZOFFSETFROM:+0100
TZOFFSETTO:+0000
TZNAME:GMT
DTSTART:20261025T010000
END:STANDARD
END:VTIMEZONE
BEGIN:VEVENT
DTSTART;TZID=Europe/London:20260404T203000
DTEND;TZID=Europe/London:20260404T220000
DTSTAMP:20260422T054229
CREATED:20260326T122141Z
LAST-MODIFIED:20260404T124615Z
UID:38782-1775334600-1775340000@www.portseaparish.co.uk
SUMMARY:Celebrating Christ's Presence: Holy Saturday
DESCRIPTION:Join our parish as we gather for one of the most beautiful services of the year. \nWe first gather in the darkness outside\, before lighting our new Paschal candle and processing through the church\, symbolising the light Jesus brought to the world. Joyfully\, we then celebrate Christ’s resurrection with a Eucharist service! \nThis service will be livestreamed on our YouTube channel and our Facebook page. To engage with the service\, you can find the order of service on our AChurchNearYou page. \n \n
URL:https://www.portseaparish.co.uk/event/celebrating-christs-presence-holy-saturday-2/
LOCATION:St Mary’s Church\, Fratton Road\, Portsmouth\, PO1 5PA\, United Kingdom
END:VEVENT
END:VCALENDAR