BEGIN:VCALENDAR
VERSION:2.0
PRODID:-//Portsea Parish - ECPv5.0.3.1//NONSGML v1.0//EN
CALSCALE:GREGORIAN
METHOD:PUBLISH
X-WR-CALNAME:Portsea Parish
X-ORIGINAL-URL:https://www.portseaparish.co.uk
X-WR-CALDESC:Events for Portsea Parish
BEGIN:VTIMEZONE
TZID:Europe/London
BEGIN:DAYLIGHT
TZOFFSETFROM:+0000
TZOFFSETTO:+0100
TZNAME:BST
DTSTART:20200329T010000
END:DAYLIGHT
BEGIN:STANDARD
TZOFFSETFROM:+0100
TZOFFSETTO:+0000
TZNAME:GMT
DTSTART:20201025T010000
END:STANDARD
END:VTIMEZONE
BEGIN:VEVENT
DTSTART;TZID=Europe/London:20201102T190000
DTEND;TZID=Europe/London:20201102T200000
DTSTAMP:20260425T174617
CREATED:20201028T170103Z
LAST-MODIFIED:20201029T180347Z
UID:31512-1604343600-1604347200@www.portseaparish.co.uk
SUMMARY:All Souls Day Choral Requiem
DESCRIPTION:To send names to be remembered during the service\, please email vicar@portseaparish.co.uk \n
URL:https://www.portseaparish.co.uk/event/all-souls-day-choral-requiem/
LOCATION:St Mary’s Church\, Fratton Road\, Portsmouth\, PO1 5PA\, United Kingdom
CATEGORIES:Choral Evensong
ATTACH;FMTTYPE=image/jpeg:https://storage.googleapis.com/portseaparish.appspot.com/1/2020/10/All-souls-scaled.jpg
END:VEVENT
END:VCALENDAR